BEGIN:VCALENDAR
VERSION:2.0
PRODID:-//jEvents 2.0 for Joomla//EN
CALSCALE:GREGORIAN
METHOD:PUBLISH
BEGIN:VEVENT
UID:20181229T154035Z-1@WZ.fritz.box
CATEGORIES:Ju1
CREATED:20181231T153047
SUMMARY:TTF Schönaich I : VfL Herrenberg III
DESCRIPTION:
DTSTAMP:20260420T140018
DTSTART:20190202T143000
DTEND:20190202T173000
SEQUENCE:0
TRANSP:OPAQUE
END:VEVENT
END:VCALENDAR