BEGIN:VCALENDAR
VERSION:2.0
PRODID:-//jEvents 2.0 for Joomla//EN
CALSCALE:GREGORIAN
METHOD:PUBLISH
BEGIN:VEVENT
UID:20181229T154112Z-1@WZ.fritz.box
CATEGORIES:3.
CREATED:20181231T153026
SUMMARY:TSV Kuppingen IV : TTF Schönaich III
DESCRIPTION:
DTSTAMP:20260420T113813
DTSTART:20190209T140000
DTEND:20190209T170000
SEQUENCE:0
TRANSP:OPAQUE
END:VEVENT
END:VCALENDAR