BEGIN:VCALENDAR
VERSION:2.0
PRODID:-//jEvents 2.0 for Joomla//EN
CALSCALE:GREGORIAN
METHOD:PUBLISH
BEGIN:VEVENT
UID:20181229T154102Z-1@WZ.fritz.box
CATEGORIES:2.
CREATED:20181231T153010
SUMMARY:SV Rohrau III : TTF Schönaich II
DESCRIPTION:
DTSTAMP:20260420T045902
DTSTART:20190217T093000
DTEND:20190217T123000
SEQUENCE:0
TRANSP:OPAQUE
END:VEVENT
END:VCALENDAR